BEGIN:VCALENDAR
VERSION:2.0
PRODID:-//hacksw/handcal//NONSGML v1.0//EN
BEGIN:VEVENT
SUMMARY:9eme Journee ASBC2 / Jard4
UID:45308d69-fcd5-4317-b9a2-963bea07f8b1
DTSTART:20260426T103000Z
DTEND:20260426T121500Z
LOCATION:Localisation   
CATEGORIES:Sportif
STATUS:
URL;VALUE=URI:https://hiboux.sportsregions.fr/evenements/2026/04/26/9eme-journee-asbc2-jard4-2433016
END:VEVENT
END:VCALENDAR
