BEGIN:VCALENDAR
VERSION:2.0
PRODID:-//hacksw/handcal//NONSGML v1.0//EN
BEGIN:VEVENT
SUMMARY:10eme et derniere Journee ST Mathurin2 / ASBC2
UID:ae40423b-80bb-4550-9130-3c50af955d71
DTSTART:20260510T103000Z
DTEND:20260510T121500Z
LOCATION:Localisation   
CATEGORIES:Sportif
STATUS:
URL;VALUE=URI:https://hiboux.sportsregions.fr/evenements/2026/05/10/10eme-et-derniere-journee-st-mathurin2-asbc2-2433019
END:VEVENT
END:VCALENDAR
